BEGIN:VCALENDAR
VERSION:2.0
PRODID:icalendar-ruby
CALSCALE:GREGORIAN
METHOD:PUBLISH
BEGIN:VEVENT
DTSTAMP:20260423T233135Z
UID:13-433087@hopecity139.tithelysetup5.com
DTSTART:20261011T170000Z
DTEND:20261011T200000Z
CLASS:PUBLIC
CREATED:20260423T141204
DESCRIPTION:Hope City Sunday Service \n10am and 1pm
LAST-MODIFIED:20260423T141204
LOCATION:27070 Detroit rd. Westlake\, OH 44145
SUMMARY:Sunday Service
URL;VALUE=URI:https://hopecitynow.online/events/sunday-service/2026-10-11
ATTACH;FILENAME=IMG_3617.JPG;FMTTYPE=image/jpeg:https://dq5pwpg1q8ru0.cloud
 front.net/2026/03/04/16/12/48/6aa08ced-75c8-4ae7-b2b1-a247ad392d6e/IMG_361
 7.JPG
END:VEVENT
END:VCALENDAR
