BEGIN:VCALENDAR
VERSION:2.0
PRODID:icalendar-ruby
CALSCALE:GREGORIAN
METHOD:PUBLISH
BEGIN:VEVENT
DTSTAMP:20260421T142922Z
UID:22-326388@hopecity139.tithelysetup5.com
DTSTART:20260516T190000Z
DTEND:20260516T230000Z
CLASS:PUBLIC
CREATED:20260308T111528
DESCRIPTION:
LAST-MODIFIED:20260308T111528
LOCATION:
SUMMARY:Outreach Flower Activity 
URL;VALUE=URI:https://hopecitynow.online/events/outreach-flower-activity/20
 26-05-16
END:VEVENT
END:VCALENDAR
