BEGIN:VCALENDAR
VERSION:2.0
PRODID:icalendar-ruby
CALSCALE:GREGORIAN
METHOD:PUBLISH
BEGIN:VEVENT
DTSTAMP:20260423T211207Z
UID:11-433015@hopecity139.tithelysetup5.com
DTSTART:20261006T190000Z
DTEND:20261006T210000Z
CLASS:PUBLIC
CREATED:20260423T141204
DESCRIPTION:Hope City Food Pantry exists to serve families and individuals 
 in our community. No one should have to go hungry. \n\n\n\n\n\nMatthew 25
 :35 ESV\n5 For I was hungry and you gave me food\, I was thirsty and you
  gave me drink\, I was a stranger and you welcomed me\,\n\n
LAST-MODIFIED:20260423T141204
LOCATION:27070 Detroit rd. Westlake\, OH 44145
SUMMARY:HopeFull
URL;VALUE=URI:https://hopecitynow.online/events/hopefull/2026-10-06
ATTACH;FILENAME=Hope-City-Food-Pantry-banner.png;FMTTYPE=image/png:https://
 dq5pwpg1q8ru0.cloudfront.net/2026/03/04/16/07/27/af49ba55-16d2-4599-a446-3
 01515c7d2d3/Hope-City-Food-Pantry-banner.png
END:VEVENT
END:VCALENDAR
