BEGIN:VCALENDAR
VERSION:2.0
PRODID:icalendar-ruby
CALSCALE:GREGORIAN
METHOD:PUBLISH
BEGIN:VEVENT
DTSTAMP:20260423T202021Z
UID:12-432648@hopecity139.tithelysetup5.com
DTSTART:20260924T190000Z
DTEND:20260924T210000Z
CLASS:PUBLIC
CREATED:20260423T111659
DESCRIPTION:Hope City Food Pantry exists to serve families and individuals 
 in our community. No one should have to go hungry. \n\n\n\n\n\nMatthew 25
 :35 ESV\n5 For I was hungry and you gave me food\, I was thirsty and you
  gave me drink\, I was a stranger and you welcomed me\,\n\n
LAST-MODIFIED:20260423T111659
LOCATION:27070 Detroit rd. Westlake\, OH 44145
SUMMARY:HopeFull
URL;VALUE=URI:https://hopecitynow.online/events/hopefull--12/2026-09-24
ATTACH;FILENAME=Hope-City-Food-Pantry-banner.png;FMTTYPE=image/png:https://
 dq5pwpg1q8ru0.cloudfront.net/2026/03/04/16/06/44/ecb3a1b2-4d4a-48a3-a036-0
 5568fe063cd/Hope-City-Food-Pantry-banner.png
END:VEVENT
END:VCALENDAR
