BEGIN:VCALENDAR
VERSION:2.0
PRODID:icalendar-ruby
CALSCALE:GREGORIAN
METHOD:PUBLISH
BEGIN:VEVENT
DTSTAMP:20260420T044000Z
UID:26-408440@hopecity139.tithelysetup5.com
DTSTART:20260425T040000Z
DTEND:20260425T050000Z
CLASS:PUBLIC
CREATED:20260413T083336
DESCRIPTION:Cost for entry is $18
LAST-MODIFIED:20260413T083336
LOCATION:30325 Palisades Pkwy\, Wickliffe OH 44092
SUMMARY:Gospel Glow Skate Night
URL;VALUE=URI:https://hopecitynow.online/events/gospel-glow-skate-night/202
 6-04-24
ATTACH;FILENAME=glow-night.png;FMTTYPE=image/png:https://dq5pwpg1q8ru0.clou
 dfront.net/2026/04/13/15/33/35/0f89dc7b-c0ba-4be7-afd9-2a0a77150b06/glow-n
 ight.png
END:VEVENT
END:VCALENDAR
